BEGIN:VCALENDAR
PRODID:-//github.com/rianjs/ical.net//NONSGML ical.net 4.0//EN
VERSION:2.0
BEGIN:VEVENT
DESCRIPTION:Chatbots als 24/7-Onlineschalter\nEffizienzgewinn für Aargauer
  Gemeinden dank KI\n\nWebinar\n\nWeitere Informationen finden Sie auf uns
 erer Event-Website:\nhttps://www.abraxas.ch/de/uber-uns/events/webinar-ab
 raxas-chatbot-maerz-2024
DTEND:20240326T150000
DTSTAMP:20260421T151043Z
DTSTART:20240326T140000
LOCATION:Webinar
SEQUENCE:0
SUMMARY:Webinar Abraxas CHATBOT März 2024
UID:eec90cfd-4c94-48a2-ad9b-0af7d389feab
END:VEVENT
END:VCALENDAR
