BEGIN:VCALENDAR
PRODID:-//github.com/rianjs/ical.net//NONSGML ical.net 4.0//EN
VERSION:2.0
BEGIN:VEVENT
DESCRIPTION:Work Smart: Souveränität stärken\nPraxisnah umsetzen am modern
 en Arbeitsplatz \n\nWebinar\n\nWeitere Informationen finden Sie auf unser
 er Event-Website:\nhttps://www.abraxas.ch/de/uber-uns/events/work-smart-s
 ouveraenitaet-staerken
DTEND:20260603T143000
DTSTAMP:20260421T235615Z
DTSTART:20260603T133000
LOCATION:Webinar
SEQUENCE:0
SUMMARY:Work Smart: Souveränität stärken
UID:bd44c68a-4751-4d64-95cb-16c96b831fdb
END:VEVENT
END:VCALENDAR
