BEGIN:VCALENDAR
PRODID:-//github.com/rianjs/ical.net//NONSGML ical.net 4.0//EN
VERSION:2.0
BEGIN:VEVENT
DESCRIPTION:<span class="highlighted">OBA</span> – Ostschweizer Messe für 
 Aus- und Weiterbildung\n\n\nOlma Messen\, St. Gallen\n\nWeitere Informati
 onen finden Sie auf unserer Event-Website:\nhttps://www.abraxas.ch/de/ube
 r-uns/events/oba-2025-die-ostschweizer-messe-fuer-aus-und-weiterbildung
DTEND;VALUE=DATE:20250901
DTSTAMP:20260421T151043Z
DTSTART;VALUE=DATE:20250828
LOCATION:Olma Messen\, St. Gallen
SEQUENCE:0
SUMMARY:OBA 2025 – Die Ostschweizer Messe für Aus- und Weiterbildung
UID:5e3870e0-d72e-4716-a5ec-66426b3199db
END:VEVENT
END:VCALENDAR
