BEGIN:VCALENDAR
PRODID:-//github.com/rianjs/ical.net//NONSGML ical.net 4.0//EN
VERSION:2.0
BEGIN:VEVENT
DESCRIPTION:11. EXPO Energietechnik 2025\nTechnik erleben. Zukunft gestalt
 en.\n\nWerkgelände Swisspearl Schweiz AG\, Niederurnen\n\nWeitere Informa
 tionen finden Sie auf unserer Event-Website:\nhttps://www.abraxas.ch/de/u
 ber-uns/events/expo-energietechnik
DTEND;VALUE=DATE:20250627
DTSTAMP:20260421T151619Z
DTSTART;VALUE=DATE:20250625
LOCATION:Werkgelände Swisspearl Schweiz AG\, Niederurnen
SEQUENCE:0
SUMMARY:EXPO Energietechnik
UID:fc45a831-609b-4ec3-b7d6-3d6af7879f4e
END:VEVENT
END:VCALENDAR
