BEGIN:VCALENDAR
PRODID:-//github.com/rianjs/ical.net//NONSGML ical.net 4.0//EN
VERSION:2.0
BEGIN:VEVENT
DESCRIPTION:Demokratie und künstliche Intelligenz – (wie) geht das?\nChanc
 en und Risiken\n\nAcademy Webinar\n\nWeitere Informationen finden Sie auf
  unserer Event-Website:\nhttps://www.abraxas.ch/de/uber-uns/events/academ
 y-demokratie-und-kuenstliche-intelligenz-wie-geht-das
DTEND:20251113T150000
DTSTAMP:20260421T152010Z
DTSTART:20251113T140000
LOCATION:Academy Webinar
SEQUENCE:0
SUMMARY:Academy: Demokratie und künstliche Intelligenz – (wie) geht das?
UID:ca4b796d-eb5c-4342-82ec-c53405f96557
END:VEVENT
END:VCALENDAR
